BEGIN:VCALENDAR
VERSION:2.0
PRODID:-//pretix//My_TOS_Registration_installation//
BEGIN:VEVENT
UID:pretix-TOS-tos2026-0@register.tos.or.tz
DTSTART;VALUE=DATE:20260618
DTEND;VALUE=DATE:20260620
DESCRIPTION:Tickets: https://register.tos.or.tz/TOS/tos2026/\nAdmission: 20
 26-06-18 08:00\nOrganizer: Tanzania Ophthalmology Society
DTSTAMP:20260424T143021Z
LOCATION:Elephant Hall City Park - Mbeya\, Tanzania
SUMMARY:7th All Eye Health Workers and Partners Congress in Tanzania
END:VEVENT
END:VCALENDAR
